BEGIN:VCALENDAR
VERSION:2.0
PRODID:-//SPD Wolfsburg - ECPv6.11.1//NONSGML v1.0//EN
CALSCALE:GREGORIAN
METHOD:PUBLISH
X-WR-CALNAME:SPD Wolfsburg
X-ORIGINAL-URL:https://spd-wolfsburg.de
X-WR-CALDESC:Veranstaltungen für SPD Wolfsburg
REFRESH-INTERVAL;VALUE=DURATION:PT1H
X-Robots-Tag:noindex
X-PUBLISHED-TTL:PT1H
BEGIN:VTIMEZONE
TZID:Europe/Paris
BEGIN:DAYLIGHT
TZOFFSETFROM:+0100
TZOFFSETTO:+0200
TZNAME:CEST
DTSTART:20190331T010000
END:DAYLIGHT
BEGIN:STANDARD
TZOFFSETFROM:+0200
TZOFFSETTO:+0100
TZNAME:CET
DTSTART:20191027T010000
END:STANDARD
END:VTIMEZONE
BEGIN:VEVENT
DTSTART;TZID=Europe/Paris:20190702T180000
DTEND;TZID=Europe/Paris:20190702T193000
DTSTAMP:20260424T115355
CREATED:20190612T065408Z
LAST-MODIFIED:20190612T065408Z
UID:921-1562090400-1562095800@spd-wolfsburg.de
SUMMARY:Schutzzonen in Wolfsburg - Wenn Rechte nach dem Rechten sehen
DESCRIPTION:Mit der Aktion „Schafft Schutzzonen“ versucht die NPD Gleichgesinnte zu mobilisieren\, um als selbsternannte Bürgerwehr durch die Stadt zu laufen und Präsenz zu demonstrieren. \nIn sozialen Netzwerken kommt der Aufruf bei Rechtsradikalen und Menschen mit nationalistischem Gedankengut gut an. In Salzgitter haben sich bereits vor einiger Zeit Patrouillen formiert und stellen eine große Herausforderung für Zivilgesellschaft und Polizei dar. Nach der Großrazzia am Nordkopf im vergangenen Jahr haben Anhänger der NPD auch Wolfsburg ins Visier genommen. Auch hier fanden bereits Rundgänge der uniformierten Bürgerwehr statt. \nSind sogenannte „Schutzzonen“ ein Problem in unserer kulturell vielfältigen Stadt? Wie reagiert die Polizei und was kann man als Zivilgesellschaft gegen rechte Tendenzen unternehmen? Um dieser Frage auf den Grund zu gehen laden unsere Landtagsabgeordnete Immacolata Glosemeyer und unser Bundestagsabgeordneter Falko Mohrs zur Informationsveranstaltung ein.
URL:https://spd-wolfsburg.de/event/schutzzonen-in-wolfsburg-wenn-rechte-nach-dem-rechten-sehen/
LOCATION:Gewerkschaftshaus\, Siegfried-Ehlers-Straße 2\, 38440 Wolfsburg
CATEGORIES:Unterbezirk
END:VEVENT
END:VCALENDAR