BEGIN:VCALENDAR
VERSION:2.0
PRODID:-//SPD Wolfsburg - ECPv6.11.1//NONSGML v1.0//EN
CALSCALE:GREGORIAN
METHOD:PUBLISH
X-ORIGINAL-URL:https://spd-wolfsburg.de
X-WR-CALDESC:Veranstaltungen für SPD Wolfsburg
REFRESH-INTERVAL;VALUE=DURATION:PT1H
X-Robots-Tag:noindex
X-PUBLISHED-TTL:PT1H
BEGIN:VTIMEZONE
TZID:Europe/Paris
BEGIN:DAYLIGHT
TZOFFSETFROM:+0100
TZOFFSETTO:+0200
TZNAME:CEST
DTSTART:20190331T010000
END:DAYLIGHT
BEGIN:STANDARD
TZOFFSETFROM:+0200
TZOFFSETTO:+0100
TZNAME:CET
DTSTART:20191027T010000
END:STANDARD
END:VTIMEZONE
BEGIN:VEVENT
DTSTART;TZID=Europe/Paris:20190521T160000
DTEND;TZID=Europe/Paris:20190521T173000
DTSTAMP:20260420T101817
CREATED:20190416T080437Z
LAST-MODIFIED:20190416T080437Z
UID:855-1558454400-1558459800@spd-wolfsburg.de
SUMMARY:Europawahl: Info-Truck mach Halt in Wolfsburg
DESCRIPTION:Wir laden herzlich ein zur „Kommt-zusammen-Tour“ \nam Dienstag\, 21. Mai 2019\, \nvon 16:00 – 17:30 Uhr\, \nPorschestraße 68 „vor der Drogerie Müller“ in 38440 Wolfsburg. \nEs gibt jede Menge Informationen zur Europawahl\, nette Gespräche und belgische Waffeln.
URL:https://spd-wolfsburg.de/event/europawahl-info-truck-mach-halt-in-wolfsburg-2/
LOCATION:„Vor Drogerie Müller“\, Porschestraße 68\, 38440 Wolfsburg\, Deutschland
CATEGORIES:Unterbezirk
ATTACH;FMTTYPE=image/png:https://spd-wolfsburg.de/wp-content/uploads/2019/04/KommtZusammenHeader.png
ORGANIZER;CN="SPD-UB Wolfsburg":MAILTO:wolfsburg.br-ub@spd.de
END:VEVENT
END:VCALENDAR